BEGIN:VCALENDAR
VERSION:2.0
PRODID:-//https://ischiaeventi.com///NONSGML kigkonsult.se iCalcreator 2.10.15//
METHOD:PUBLISH
BEGIN:VEVENT
UID:20260424T130407UTC-4122pcP2np@https://ischiaeventi.com/
DTSTAMP:20260424T130407Z
DESCRIPTION:Un momento fondamentale per il futuro e la gestione della cultu
 ra sul territorio: l’Associazione CSII-APS annuncia la convocazione dell’A
 ssemblea dei Soci per il prossimo 28 aprile 2026\, dedicata al rinnovo del
 le cariche sociali.\nL’evento\, di profondo valore democratico e associati
 vo\, si terrà nella prestigiosa cornice della Biblioteca Antoniana di Isch
 ia\, sede legale del sodalizio. I soci sono chiamati a esprimere il propri
 o voto per l’elezione del nuovo Presidente\, dei componenti del Consiglio 
 Direttivo e dei membri dell’Organo di Controllo.\nL'iter elettorale\, come
  stabilito dal Nuovo Statuto (artt. 14 e 15) e ratificato durante l'ultima
  adunata del Consiglio Direttivo dello scorso 9 aprile\, segna un passaggi
 o fondamentale per l'associazione\, pronta a tracciare le linee guida per 
 le prossime attività e a rafforzare la propria presenza nella comunità iso
 lana.\nDettagli dell’evento:\nData: 28 aprile 2026Luogo: Biblioteca Antoni
 ana\, IschiaOrario: Primo appello ore 17:30\nIl Presidente uscente ha sott
 olineato l'importanza della partecipazione attiva: ogni socio in regola co
 n le quote sociali potrà concorrere alle cariche o esprimere la propria pr
 eferenza\, garantendo così una continuità progettuale e un ricambio basato
  sulla condivisione dei valori associativi.\nNota per la stampa:\nI media 
 locali e i giornalisti sono invitati a partecipare per documentare questo 
 importante momento di vita associativa e per raccogliere i contributi e le
  visioni dei presenti sul futuro culturale dell'isola. Sarà un'occasione u
 tile per intervistare i rappresentanti uscenti e i candidati sulle prossim
 e sfide che l'associazione CSII-APS si appresta ad affrontare.\nInfo: Cent
 ro Studi Isola d'Ischia APS - centrostudischia.it https://ischiaeventi.com
 /calendario/evento/249915-lassociazione-culturale-csii-aps-rinnova-le-sue-
 cariche-sociali
DTSTART:20260428T153000Z
DTEND:20260428T170000Z
LOCATION:Biblioteca Antoniana (Rampe S.Antonio\, 5\, 80077 - Ischia)
SUMMARY:L’Associazione Culturale CSII-APS rinnova le sue cariche sociali
URL:https://ischiaeventi.com/calendario/evento/249915-lassociazione-cultura
 le-csii-aps-rinnova-le-sue-cariche-sociali
END:VEVENT
END:VCALENDAR
