BEGIN:VCALENDAR
VERSION:2.0
PRODID:-//https://ischiaeventi.com///NONSGML kigkonsult.se iCalcreator 2.10.15//
METHOD:PUBLISH
BEGIN:VEVENT
UID:20260419T220241UTC-438335oncl@https://ischiaeventi.com/
DTSTAMP:20260419T220241Z
DESCRIPTION:Il ricettario di Nonna Titta https://ischiaeventi.com/component
 /rseventspro/evento/249362-natale-a-forio-2025-il-ricettario-di-nonna-titt
 a?Itemid=467
DTSTART:20251220T160000Z
DTEND:20251220T180000Z
LOCATION:Chiostro S. Francesco (Rione Pescatori\, 2\, 80075 Forio NA\, Ital
 ia)
SUMMARY:Natale a Forio 2025: Il ricettario di Nonna Titta
URL:https://ischiaeventi.com/component/rseventspro/evento/249362-natale-a-f
 orio-2025-il-ricettario-di-nonna-titta?Itemid=467
END:VEVENT
END:VCALENDAR
