BEGIN:VCALENDAR
VERSION:2.0
PRODID:-//https://ischiaeventi.com///NONSGML kigkonsult.se iCalcreator 2.10.15//
METHOD:PUBLISH
BEGIN:VEVENT
UID:20260419T213703UTC-9016p8mADj@https://ischiaeventi.com/
DTSTAMP:20260419T213703Z
DESCRIPTION:MERCATINI ARTIGIANALI e&nbsp\;LUDOBUS GIOCHI IN LEGNO https://i
 schiaeventi.com/component/rseventspro/evento/249399-il-brunch-della-belana
 ?Itemid=467
DTSTART:20260111T113500Z
DTEND:20260111T133500Z
LOCATION:Piazzale di Serrara e belvedere (Piazza Pietro Paolo Iacono\, 5\, 
 80070 Serrara Fontana NA\, Italy)
SUMMARY:IL BRUNCH della Belana
URL:https://ischiaeventi.com/component/rseventspro/evento/249399-il-brunch-
 della-belana?Itemid=467
END:VEVENT
END:VCALENDAR
