BEGIN:VCALENDAR
VERSION:2.0
PRODID:-//https://ischiaeventi.com///NONSGML kigkonsult.se iCalcreator 2.10.15//
METHOD:PUBLISH
BEGIN:VEVENT
UID:20260419T220204UTC-1850eW97bn@https://ischiaeventi.com/
DTSTAMP:20260419T220204Z
DESCRIPTION:Evento sportivo Real Forio - Real Grazzanise\nIngresso gratuito
  https://ischiaeventi.com/component/rseventspro/evento/249400-evento-sport
 ivo-real-forio-real-grazzanise?Itemid=467
DTSTART:20260111T133000Z
DTEND:20260111T160000Z
LOCATION:Stadio - Salvatore Calise (Via Cava di Spinavola 17\, 80075\, Fori
 o\, Napoli)
SUMMARY:Evento sportivo Real Forio - Real Grazzanise
URL:https://ischiaeventi.com/component/rseventspro/evento/249400-evento-spo
 rtivo-real-forio-real-grazzanise?Itemid=467
END:VEVENT
END:VCALENDAR
