BEGIN:VCALENDAR
VERSION:2.0
PRODID:-//https://ischiaeventi.com///NONSGML kigkonsult.se iCalcreator 2.10.15//
METHOD:PUBLISH
BEGIN:VEVENT
UID:20260419T220244UTC-7844HAapOu@https://ischiaeventi.com/
DTSTAMP:20260419T220244Z
DESCRIPTION:Vicolo in Sagra di FestaSant'Antuono 202617 Gennaio 2026 Inizio
  ore 19.30Via Sant'Antonio Abate (dietro la fontana) FORIOPasta e patate\,
  Montanare\, Graffe fritte a momento\, Dolci\, Vino\, Musica https://ischi
 aeventi.com/component/rseventspro/evento/249421-vicolo-in-festa-santantuon
 o-2026?Itemid=467
DTSTART:20260117T183000Z
DTEND:20260117T200000Z
LOCATION:Parrocchia di Sant'Antonio Abate (Via Acquedotto\, 63\, 80077 Isch
 ia NA\, Italia)
SUMMARY:Vicolo in festa: Sant'Antuono 2026
URL:https://ischiaeventi.com/component/rseventspro/evento/249421-vicolo-in-
 festa-santantuono-2026?Itemid=467
END:VEVENT
END:VCALENDAR
