BEGIN:VCALENDAR
VERSION:2.0
PRODID:-//https://ischiaeventi.com///NONSGML kigkonsult.se iCalcreator 2.10.15//
METHOD:PUBLISH
BEGIN:VEVENT
UID:20260425T235826UTC-2700JarSm0@https://ischiaeventi.com/
DTSTAMP:20260425T235826Z
DESCRIPTION:di Edgar Kupfer-Koberwitz'Ischia l'isola dimenticata'\nPresenta
 zione a cura della FIDAPA BPW Italy Sezione di Ischia 24 febbraio ore 17:3
 0 presso la Sala della Biblioteca Antoniana in Ischia https://ischiaeventi
 .com/component/rseventspro/evento/249571-presentazione-ischia-lisola-dimen
 ticata?Itemid=467
DTSTART:20260224T163000Z
DTEND:20260224T190000Z
LOCATION:Biblioteca Antoniana (Rampe S.Antonio\, 5\, 80077 - Ischia)
SUMMARY:Presentazione 'Ischia l'isola dimenticata'
URL:https://ischiaeventi.com/component/rseventspro/evento/249571-presentazi
 one-ischia-lisola-dimenticata?Itemid=467
END:VEVENT
END:VCALENDAR
