BEGIN:VCALENDAR
VERSION:2.0
PRODID:-//https://ischiaeventi.com///NONSGML kigkonsult.se iCalcreator 2.10.15//
METHOD:PUBLISH
BEGIN:VEVENT
UID:20260419T213721UTC-4242KUuuDx@https://ischiaeventi.com/
DTSTAMP:20260419T213721Z
DESCRIPTION:COMPAGNIA TEATRALE ATTORI PER CASOPRESENTA: Duje ChiapparielleC
 ommedia in tre atti di Eduardo ScarpettaGli Attori Per Caso sono felici di
  annunciare la REPLICA dopo il grande SuccessoDOMENICA I MARZOOre 17:30SAL
 A TEATRO POLIFUNZIONALE - ISCHIA https://ischiaeventi.com/component/rseven
 tspro/evento/249595-attori-per-caso-presenta-duje-chiapparielle?Itemid=467
DTSTART:20260301T163000Z
DTEND:20260301T190000Z
LOCATION:Sala Teatro Polifunzionale (Via Morgioni\, 80077 Ischia NA\, Itali
 a)
SUMMARY:ATTORI PER CASO PRESENTA: Duje Chiapparielle
URL:https://ischiaeventi.com/component/rseventspro/evento/249595-attori-per
 -caso-presenta-duje-chiapparielle?Itemid=467
END:VEVENT
END:VCALENDAR
