BEGIN:VCALENDAR
VERSION:2.0
PRODID:-//https://ischiaeventi.com///NONSGML kigkonsult.se iCalcreator 2.10.15//
METHOD:PUBLISH
BEGIN:VEVENT
UID:20260426T000004UTC-39243XvCbl@https://ischiaeventi.com/
DTSTAMP:20260426T000004Z
DESCRIPTION:A cura dei lettori del Circolo LaAV Isola d'IschiaIngresso libe
 ro fino a esaurimento postiPer bambini 8/10 anniBIBLIOTECA ANTONIANAUnisci
 ti a noi tutti i Mercoledì dalle ore 17:30 alle 18:30 presso la Biblioteca
  Comunale Antoniana Via Rampe Sant'Antonio 2\, IschiaVi aspettiamo nei gio
 rni 4 – 11 18-25 MarzoPrenota via email:biblioischia@libero.it https://isc
 hiaeventi.com/component/rseventspro/evento/249616-read-now-scopriamo-lingl
 ese-attraverso-le-letture?Itemid=467
DTSTART:20260304T163000Z
DTEND:20260304T170000Z
LOCATION:Biblioteca Antoniana (Rampe S.Antonio\, 5\, 80077 - Ischia)
SUMMARY:Read now! Scopriamo l'inglese attraverso le letture
URL:https://ischiaeventi.com/component/rseventspro/evento/249616-read-now-s
 copriamo-linglese-attraverso-le-letture?Itemid=467
END:VEVENT
END:VCALENDAR
