BEGIN:VCALENDAR
VERSION:2.0
PRODID:-//https://ischiaeventi.com///NONSGML kigkonsult.se iCalcreator 2.10.15//
METHOD:PUBLISH
BEGIN:VEVENT
UID:20260426T001055UTC-3317CjXcfV@https://ischiaeventi.com/
DTSTAMP:20260426T001055Z
DESCRIPTION:Relazione di Serenaorsola PilatoStorica dell'ArtePresentazione 
 e saluti: Nunzia Mattera SenaPresidente Garden Club IschiaCristina Mattera
 Castello Aragonese IschiaIntervento introduttivo: Lucia AnnicelliDirettric
 e Biblioteca Antoniana IschiaBiblioteca Antoniana Ischia 13 marzo 2026 ore
  17.30 https://ischiaeventi.com/component/rseventspro/evento/249644-il-mec
 enatismo-dei-davalos-a-ischia?Itemid=467
DTSTART:20260313T163000Z
DTEND:20260313T173000Z
LOCATION:Biblioteca Antoniana (Rampe S.Antonio\, 5\, 80077 - Ischia)
SUMMARY:Il mecenatismo dei d'Avalos a Ischia
URL:https://ischiaeventi.com/component/rseventspro/evento/249644-il-mecenat
 ismo-dei-davalos-a-ischia?Itemid=467
END:VEVENT
END:VCALENDAR
