BEGIN:VCALENDAR
VERSION:2.0
PRODID:-//https://ischiaeventi.com///NONSGML kigkonsult.se iCalcreator 2.10.15//
METHOD:PUBLISH
BEGIN:VEVENT
UID:20260425T012808UTC-0075SuXRCV@https://ischiaeventi.com/
DTSTAMP:20260425T012808Z
DESCRIPTION:La Vostra presenza arricchirebbe ulteriormente questa occasione
  dedicata alla valorizzazione della storia e dell'architettura della nostr
 a comunità e della Città di Napoli.&nbsp\;\n&nbsp\;\nCon la presente si in
 tende promuovere\, attraverso i vostri canali\, l'evento sopra menzionato.
 \n&nbsp\; https://ischiaeventi.com/component/rseventspro/evento/28583-pres
 entazione-del-volume-forma-urbis-neapolis?Itemid=101
DTSTART:20240309T160000Z
DTEND:20240309T173000Z
LOCATION:Biblioteca Antoniana (Rampe S.Antonio\, 5\, 80077 - Ischia)
SUMMARY:Presentazione del volume 'Forma urbis neapolis' 
URL:https://ischiaeventi.com/component/rseventspro/evento/28583-presentazio
 ne-del-volume-forma-urbis-neapolis?Itemid=101
END:VEVENT
END:VCALENDAR
