BEGIN:VCALENDAR
VERSION:2.0
PRODID:-//https://ischiaeventi.com///NONSGML kigkonsult.se iCalcreator 2.10.15//
METHOD:PUBLISH
BEGIN:VEVENT
UID:20260426T030548UTC-7490MIAnVa@https://ischiaeventi.com/
DTSTAMP:20260426T030548Z
DESCRIPTION:Inaugurazione Iacono Mattera Waschimps https://ischiaeventi.com
 /component/rseventspro/evento/28758-inaugurazione-iacono-mattera-waschimps
 ?Itemid=101
DTSTART:20240426T160000Z
DTEND:20240426T180000Z
LOCATION:Villa Arbusto (Corso Angelo Rizzoli\, 194\, 80076 Lacco Ameno NA\,
  Italia)
SUMMARY:Inaugurazione Iacono Mattera Waschimps
URL:https://ischiaeventi.com/component/rseventspro/evento/28758-inaugurazio
 ne-iacono-mattera-waschimps?Itemid=101
END:VEVENT
END:VCALENDAR
