BEGIN:VCALENDAR
VERSION:2.0
PRODID:-//https://ischiaeventi.com///NONSGML kigkonsult.se iCalcreator 2.10.15//
METHOD:PUBLISH
BEGIN:VEVENT
UID:20260426T030258UTC-0426dml8V4@https://ischiaeventi.com/
DTSTAMP:20260426T030258Z
DESCRIPTION:Esposizione Iacono Mattera Waschimps https://ischiaeventi.com/c
 omponent/rseventspro/evento/28771-esposizione-iacono-mattera-waschimps?Ite
 mid=101
DTSTART:20240404T160000Z
DTEND:20240404T180000Z
LOCATION:Villa Arbusto (Corso Angelo Rizzoli\, 194\, 80076 Lacco Ameno NA\,
  Italia)
SUMMARY:Esposizione Iacono Mattera Waschimps
URL:https://ischiaeventi.com/component/rseventspro/evento/28771-esposizione
 -iacono-mattera-waschimps?Itemid=101
END:VEVENT
END:VCALENDAR
