BEGIN:VCALENDAR
VERSION:2.0
PRODID:-//https://ischiaeventi.com///NONSGML kigkonsult.se iCalcreator 2.10.15//
METHOD:PUBLISH
BEGIN:VEVENT
UID:20260425T014627UTC-0163K77WNl@https://ischiaeventi.com/
DTSTAMP:20260425T014627Z
DESCRIPTION:La mostra è visitabile dal martedì alla domenica dalle 19.00 al
 le 24.00\, i quadri in esposizione sono disponibili per eventuali acquisti
 . https://ischiaeventi.com/component/rseventspro/evento/29123-mostra-fotog
 rafica-punti-di-vista?Itemid=101
DTSTART;VALUE=DATE:20240406
LOCATION:Kiwi Jam (Via Luigi Mazzella\, 42\, 80077 Ischia NA\, Italia)
SUMMARY:Mostra fotografica punti di vista
URL:https://ischiaeventi.com/component/rseventspro/evento/29123-mostra-foto
 grafica-punti-di-vista?Itemid=101
END:VEVENT
END:VCALENDAR
