BEGIN:VCALENDAR
VERSION:2.0
PRODID:-//https://ischiaeventi.com///NONSGML kigkonsult.se iCalcreator 2.10.15//
METHOD:PUBLISH
BEGIN:VEVENT
UID:20260424T235557UTC-6047EdOacU@https://ischiaeventi.com/
DTSTAMP:20260424T235557Z
DESCRIPTION:Fave e ventresca paesane https://ischiaeventi.com/component/rse
 ventspro/evento/29353-fave-e-ventresca-paesane?Itemid=101
DTSTART:20240427T180000Z
DTEND:20240427T214500Z
LOCATION:Panza (Piazza San Leonardo - 80075 Panza Forio)
SUMMARY:Fave e ventresca paesane
URL:https://ischiaeventi.com/component/rseventspro/evento/29353-fave-e-vent
 resca-paesane?Itemid=101
END:VEVENT
END:VCALENDAR
