BEGIN:VCALENDAR
VERSION:2.0
PRODID:-//https://ischiaeventi.com///NONSGML kigkonsult.se iCalcreator 2.10.15//
METHOD:PUBLISH
BEGIN:VEVENT
UID:20260426T031110UTC-0993XFVK3s@https://ischiaeventi.com/
DTSTAMP:20260426T031110Z
DESCRIPTION:Incontri di cultura su Vittorio De Sica https://ischiaeventi.co
 m/component/rseventspro/evento/31569-vittorio-de-sica-patrimonio-allitalia
 na?Itemid=101
DTSTART:20240730T193000Z
DTEND:20240730T213000Z
LOCATION:Villa Arbusto (Corso Angelo Rizzoli\, 194\, 80076 Lacco Ameno NA\,
  Italia)
SUMMARY:Vittorio De Sica: patrimonio all'italiana
URL:https://ischiaeventi.com/component/rseventspro/evento/31569-vittorio-de
 -sica-patrimonio-allitaliana?Itemid=101
END:VEVENT
END:VCALENDAR
