BEGIN:VCALENDAR
VERSION:2.0
PRODID:-//https://ischiaeventi.com///NONSGML kigkonsult.se iCalcreator 2.10.15//
METHOD:PUBLISH
BEGIN:VEVENT
UID:20260426T025728UTC-0987hvcDgJ@https://ischiaeventi.com/
DTSTAMP:20260426T025728Z
DESCRIPTION:Il Cammino del Cuore' .Un tempo di grazia \, tre pomeriggi viss
 uti insieme nella splendida Villa Arbusto a Lacco Ameno. Dal 27 al 29 genn
 aio 2025 \, guidati da Padre Renato Colizzi sj\, vivremo momenti intensi d
 i spiritualità e fraternità.  https://ischiaeventi.com/component/rseventsp
 ro/evento/40956-il-cammino-del-cuore?Itemid=101
DTSTART:20250128T150000Z
DTEND:20250128T180000Z
LOCATION:Villa Arbusto (Corso Angelo Rizzoli\, 194\, 80076 Lacco Ameno NA\,
  Italia)
SUMMARY:Il cammino del cuore
URL:https://ischiaeventi.com/component/rseventspro/evento/40956-il-cammino-
 del-cuore?Itemid=101
END:VEVENT
END:VCALENDAR
