BEGIN:VCALENDAR
VERSION:2.0
PRODID:-//https://ischiaeventi.com///NONSGML kigkonsult.se iCalcreator 2.10.15//
METHOD:PUBLISH
BEGIN:VEVENT
UID:20260426T025435UTC-3377A99aai@https://ischiaeventi.com/
DTSTAMP:20260426T025435Z
DESCRIPTION:Mostra Veranica Acunto\nIngresso Libero\n&nbsp\; https://ischia
 eventi.com/component/rseventspro/evento/68457-mostra-veronica-acunto?Itemi
 d=101
DTSTART:20250417T173000Z
DTEND:20250417T190000Z
LOCATION:Villa Arbusto (Corso Angelo Rizzoli\, 194\, 80076 Lacco Ameno NA\,
  Italia)
SUMMARY:Mostra Veronica Acunto
URL:https://ischiaeventi.com/component/rseventspro/evento/68457-mostra-vero
 nica-acunto?Itemid=101
END:VEVENT
END:VCALENDAR
