BEGIN:VCALENDAR
VERSION:2.0
PRODID:-//https://ischiaeventi.com///NONSGML kigkonsult.se iCalcreator 2.10.15//
METHOD:PUBLISH
BEGIN:VEVENT
UID:20260426T042002UTC-6096fWwfN2@https://ischiaeventi.com/
DTSTAMP:20260426T042002Z
DESCRIPTION:Mostra Veranica Acunto\nIngresso Libero\n&nbsp\; https://ischia
 eventi.com/component/rseventspro/evento/68487-mostra-veronica-acunto?Itemi
 d=101
DTSTART:20250517T173000Z
DTEND:20250517T190000Z
LOCATION:Villa Arbusto (Corso Angelo Rizzoli\, 194\, 80076 Lacco Ameno NA\,
  Italia)
SUMMARY:Mostra Veronica Acunto
URL:https://ischiaeventi.com/component/rseventspro/evento/68487-mostra-vero
 nica-acunto?Itemid=101
END:VEVENT
END:VCALENDAR
