BEGIN:VCALENDAR
VERSION:2.0
PRODID:-//https://ischiaeventi.com///NONSGML kigkonsult.se iCalcreator 2.10.15//
METHOD:PUBLISH
BEGIN:VEVENT
UID:20260423T144835UTC-8446HM8ntj@https://ischiaeventi.com/
DTSTAMP:20260423T144835Z
DESCRIPTION:3:30 PM – Forio Babyland: an afternoon of fun to share the joy 
 of the holidays with the little ones in Piazza Medaglie d’Oro – Luca Balso
 fiore (San Gaetano). https://ischiaeventi.com/en/calendar/event/249108-chr
 istmas-in-forio-2025-forio-babyland
DTSTART:20260105T143000Z
DTEND:20260105T175900Z
LOCATION:Comune di Forio (Piazza Municipio\, 1\, 80075 Forio NA\, Italia)
SUMMARY:Christmas in Forio 2025: Forio Babyland
URL:https://ischiaeventi.com/en/calendar/event/249108-christmas-in-forio-20
 25-forio-babyland
END:VEVENT
END:VCALENDAR
