BEGIN:VCALENDAR
VERSION:2.0
PRODID:-//https://ischiaeventi.com///NONSGML kigkonsult.se iCalcreator 2.10.15//
METHOD:PUBLISH
BEGIN:VEVENT
UID:20260424T125859UTC-6818j4vh2V@https://ischiaeventi.com/
DTSTAMP:20260424T125859Z
DESCRIPTION:The Association PIDA – International Ischia Architecture Award\
 , together with SiebenArchi – Architects\, Urban Planners\, Designers\, ha
 s organized the conference “May of Architecture_annodiciannove” at the Cou
 ncil Chamber of the Municipality of Ischia—an event that this year takes o
 n a particularly meaningful significance: paying tribute to the memory of 
 the unforgettable Antonello Monaco\, architect\, intellectual\, and a key 
 figure in the cultural landscape of Ischia.\nAntonello Monaco left a profo
 und mark on the architectural culture of the island and beyond. The confer
 ence represents an opportunity to gather testimonies\, reflections\, and m
 emories from those who knew and respected him\, offering the community a p
 ortrait of a man capable of combining professional rigor\, aesthetic sensi
 tivity\, and civic passion.\nConference Program\nThe proceedings will open
  with institutional greetings from:\nEnzo Ferrandino – Mayor of IschiaMass
 imo Crusi – President of the National Council of Architects P.P.C.Lorenzo 
 Capobianco – President of the Order of Architects P.P.C. of Naples\nThe in
 troduction will be given by:\nAntonio Ciniglio – Coordinator of the May of
  Architecture AwardGiovannangelo De Angelis – President of the PIDA Associ
 ation – IschiaMarco Savastano – Oenologist and friend of Antonello\nScient
 ific presentations will be delivered by architects Marco Cortese and Bruno
  Macrì\, as well as Jorge Cruz Pinto from the University of Lisbon and Fra
 ncisco Arques Soler from the Escuela Técnica Superior de Arquitectura de M
 adrid.\nThe conclusions will be entrusted to Alessandro Castagnaro from Di
 ARC – Department of Architecture\, University of Naples Federico II.\nCont
 inuing Professional Development (CPD/CFP) credits will be awarded to parti
 cipating architects.\nMay of Architecture and the 13th Edition of PIDA\nTh
 e conference will also provide an opportunity to officially present the pr
 ogram for May of Architecture 2026\, a series that will enliven the cultur
 al life of the island and the Campania region in the coming months with co
 nferences\, workshops\, and initiatives dedicated to the quality of the bu
 ilt environment and urban space.\nIn this context\, the 13th edition of th
 e International Ischia Architecture Award (PIDA)\, scheduled from October 
 1 to 3\, 2026\, will be officially announced.\nFurther details on the them
 e and program of the 12th edition of PIDA will be released in the coming w
 eeks. https://ischiaeventi.com/en/calendar/event/249914-may-of-architectur
 e-annodiciannove
DTSTART:20260424T130000Z
DTEND:20260424T160000Z
LOCATION:Sala Consiliare “Agostino Mattera lacono” (Via Iasolino\, 1\, 8007
 7 Ischia NA\, Italia)
SUMMARY:May of Architecture_annodiciannove
URL:https://ischiaeventi.com/en/calendar/event/249914-may-of-architecture-a
 nnodiciannove
END:VEVENT
END:VCALENDAR
