BEGIN:VCALENDAR
VERSION:2.0
PRODID:-//https://ischiaeventi.com///NONSGML kigkonsult.se iCalcreator 2.10.15//
METHOD:PUBLISH
BEGIN:VEVENT
UID:20260424T130023UTC-3037VBSZ2u@https://ischiaeventi.com/
DTSTAMP:20260424T130023Z
DESCRIPTION:A key moment for the future and management of culture in the lo
 cal area: the CSII-APS Association announces the convocation of the Member
 s’ Assembly for April 28\, 2026\, dedicated to the renewal of its governin
 g bodies.\nThe event\, of deep democratic and associative value\, will tak
 e place in the prestigious setting of the Antoniana Library in Ischia\, th
 e organization’s registered headquarters. Members will be called upon to v
 ote for the election of the new President\, the members of the Board of Di
 rectors\, and the members of the Supervisory Body.\nThe electoral process\
 , as established by the New Statute (Articles 14 and 15) and ratified duri
 ng the last meeting of the Board of Directors on April 9\, marks a fundame
 ntal step for the association\, which is ready to define its guidelines fo
 r upcoming activities and strengthen its presence within the island commun
 ity.\nEvent details:\nDate: April 28\, 2026Location: Antoniana Library\, I
 schiaTime: First call at 5:30 PM\nThe outgoing President emphasized the im
 portance of active participation: every member in good standing with membe
 rship fees will be able to run for office or cast their vote\, ensuring bo
 th continuity of projects and renewal based on shared associative values.
 \nPress note:\nLocal media and journalists are invited to attend to docume
 nt this important moment in the association’s life and to gather contribut
 ions and perspectives from participants on the cultural future of the isla
 nd. It will also be an opportunity to interview outgoing representatives a
 nd candidates about the upcoming challenges that the CSII-APS Association 
 is preparing to face.\nInfo: Centro Studi Isola d'Ischia APS – centrostudi
 schia.it https://ischiaeventi.com/en/calendar/event/249915-the-csii-aps-cu
 ltural-association-renews-its-governing-bodies
DTSTART:20260428T153000Z
DTEND:20260428T170000Z
LOCATION:Biblioteca Antoniana (Rampe S.Antonio\, 5\, 80077 - Ischia)
SUMMARY:The CSII-APS Cultural Association renews its governing bodies
URL:https://ischiaeventi.com/en/calendar/event/249915-the-csii-aps-cultural
 -association-renews-its-governing-bodies
END:VEVENT
END:VCALENDAR
