BEGIN:VCALENDAR
VERSION:2.0
PRODID:-//https://ischiaeventi.com///NONSGML kigkonsult.se iCalcreator 2.10.15//
METHOD:PUBLISH
BEGIN:VEVENT
UID:20260425T224851UTC-2668AODtwW@https://ischiaeventi.com/
DTSTAMP:20260425T224851Z
DESCRIPTION:Book Presentation&nbsp\;by Giuliana Covella – Open Your Eyes&nb
 sp\;(FIDAPA – Ischia Section)\n https://ischiaeventi.com/en/component/rsev
 entspro/event/249183-christmas-at-the-antoniana-book-presentation?Itemid=4
 67
DTSTART:20251212T163000Z
DTEND:20251212T180000Z
LOCATION:Biblioteca Antoniana (Rampe S.Antonio\, 5\, 80077 - Ischia)
SUMMARY:Christmas at the Antoniana: Book Presentation
URL:https://ischiaeventi.com/en/component/rseventspro/event/249183-christma
 s-at-the-antoniana-book-presentation?Itemid=467
END:VEVENT
END:VCALENDAR
