BEGIN:VCALENDAR
VERSION:2.0
PRODID:-//https://ischiaeventi.com///NONSGML kigkonsult.se iCalcreator 2.10.15//
METHOD:PUBLISH
BEGIN:VEVENT
UID:20260426T001217UTC-60876rStpf@https://ischiaeventi.com/
DTSTAMP:20260426T001217Z
DESCRIPTION:Book Presentationby Mariafelicia Carraturo – Il risveglio di Pa
 rtenope: luce nell'abisso\n https://ischiaeventi.com/en/component/rsevents
 pro/event/249184-christmas-at-the-antoniana-book-presentation-by-mariafeli
 cia-carraturo?Itemid=467
DTSTART:20251217T170000Z
DTEND:20251217T180000Z
LOCATION:Biblioteca Antoniana (Rampe S.Antonio\, 5\, 80077 - Ischia)
SUMMARY:Christmas at the Antoniana: Book Presentation by Mariafelicia Carra
 turo
URL:https://ischiaeventi.com/en/component/rseventspro/event/249184-christma
 s-at-the-antoniana-book-presentation-by-mariafelicia-carraturo?Itemid=467
END:VEVENT
END:VCALENDAR
