BEGIN:VCALENDAR
VERSION:2.0
PRODID:-//https://ischiaeventi.com///NONSGML kigkonsult.se iCalcreator 2.10.15//
METHOD:PUBLISH
BEGIN:VEVENT
UID:20260426T002018UTC-5760P661zu@https://ischiaeventi.com/
DTSTAMP:20260426T002018Z
DESCRIPTION:Book Presentationby Federica Iacobelli – Il paese dei matti (Bo
 mpiani)\n https://ischiaeventi.com/en/component/rseventspro/event/249186-c
 hristmas-at-the-antoniana-book-presentation-by-federica-iacobelli?Itemid=4
 67
DTSTART:20251227T170000Z
DTEND:20251227T180000Z
LOCATION:Biblioteca Antoniana (Rampe S.Antonio\, 5\, 80077 - Ischia)
SUMMARY:Christmas at the Antoniana: Book Presentation by Federica Iacobelli
  
URL:https://ischiaeventi.com/en/component/rseventspro/event/249186-christma
 s-at-the-antoniana-book-presentation-by-federica-iacobelli?Itemid=467
END:VEVENT
END:VCALENDAR
