BEGIN:VCALENDAR
VERSION:2.0
PRODID:-//https://ischiaeventi.com///NONSGML kigkonsult.se iCalcreator 2.10.15//
METHOD:PUBLISH
BEGIN:VEVENT
UID:20260425T175520UTC-1875V65iMt@https://ischiaeventi.com/
DTSTAMP:20260425T175520Z
DESCRIPTION:A workshop designed for young people who wish to approach theat
 re\, experiment with expressive languages\, and challenge themselves throu
 gh a creative and educational experience.\nMarch 6\, 20267:00 PMCouncil Ch
 amber – Former Town Hall\, Forio\nLed by:Alessandra CriscuoloValentina Luc
 illa Di GenioCorrado Visone\nFor information and registration: 331 2381378
  (WhatsApp)\nA valuable opportunity to grow together through art\, culture
 \, and shared experience. https://ischiaeventi.com/en/component/rseventspr
 o/event/249620-free-theatre-workshop-for-young-people-aged-16-to-26?Itemid
 =467
DTSTART:20260306T180000Z
DTEND:20260306T200000Z
LOCATION:sala consiliare Mazzella  (80075 Forio NA\, Italia)
SUMMARY:Free theatre workshop for young people aged 16 to 26
URL:https://ischiaeventi.com/en/component/rseventspro/event/249620-free-the
 atre-workshop-for-young-people-aged-16-to-26?Itemid=467
END:VEVENT
END:VCALENDAR
