BEGIN:VCALENDAR
VERSION:2.0
PRODID:-//https://ischiaeventi.com///NONSGML kigkonsult.se iCalcreator 2.10.15//
METHOD:PUBLISH
BEGIN:VEVENT
UID:20260426T003107UTC-74482o2TCX@https://ischiaeventi.com/
DTSTAMP:20260426T003107Z
DESCRIPTION:Incontri di cultura su Vittorio De Sica https://ischiaeventi.co
 m/en/component/rseventspro/event/31571-vittorio-de-sica-patrimonio-allital
 iana?Itemid=428
DTSTART:20240801T193000Z
DTEND:20240801T213000Z
LOCATION:Villa Arbusto museum (Corso Angelo Rizzoli\, 194\, 80076 Lacco Ame
 no NA\, Italia)
SUMMARY:Vittorio De Sica: patrimonio all'italiana
URL:https://ischiaeventi.com/en/component/rseventspro/event/31571-vittorio-
 de-sica-patrimonio-allitaliana?Itemid=428
END:VEVENT
END:VCALENDAR
