BEGIN:VCALENDAR
VERSION:2.0
PRODID:-//https://ischiaeventi.com///NONSGML kigkonsult.se iCalcreator 2.10.15//
METHOD:PUBLISH
BEGIN:VEVENT
UID:20260426T001417UTC-4107viXfFm@https://ischiaeventi.com/
DTSTAMP:20260426T001417Z
DESCRIPTION:Mostra Veranica Acunto\nIngresso Libero\n&nbsp\; https://ischia
 eventi.com/en/component/rseventspro/event/68492-mostra-veronica-acunto?Ite
 mid=428
DTSTART:20250522T173000Z
DTEND:20250522T190000Z
LOCATION:Villa Arbusto museum (Corso Angelo Rizzoli\, 194\, 80076 Lacco Ame
 no NA\, Italia)
SUMMARY:Mostra Veronica Acunto
URL:https://ischiaeventi.com/en/component/rseventspro/event/68492-mostra-ve
 ronica-acunto?Itemid=428
END:VEVENT
END:VCALENDAR
