BEGIN:VCALENDAR
VERSION:2.0
PRODID:-//https://ischiaeventi.com///NONSGML kigkonsult.se iCalcreator 2.10.15//
METHOD:PUBLISH
BEGIN:VEVENT
UID:20260425T185826UTC-7672Xp8KVz@https://ischiaeventi.com/
DTSTAMP:20260425T185826Z
DESCRIPTION:ANTI-FASCIST MARTYR\nCommemoration of Giacomo Matteotti with Mi
 chele PetraroiaProvincial Guarantor of ANPI\nFRIDAY\, APRIL 17\, 2026 | 7:
 30 PMPIAZZA MATTEOTTI | FORIO (NA) https://ischiaeventi.com/en/event-venue
 s/event/249894-a-flower-for-matteotti
DTSTART:20260417T173000Z
DTEND:20260417T190000Z
LOCATION:Piazza Giacomo Matteotti (80075 Forio NA\, Italia)
SUMMARY:A Flower for Matteotti
URL:https://ischiaeventi.com/en/event-venues/event/249894-a-flower-for-matt
 eotti
END:VEVENT
END:VCALENDAR
