BEGIN:VCALENDAR
VERSION:2.0
PRODID:-//https://ischiaeventi.com///NONSGML kigkonsult.se iCalcreator 2.10.15//
METHOD:PUBLISH
BEGIN:VEVENT
UID:20260425T155409UTC-4647eIjdn5@https://ischiaeventi.com/
DTSTAMP:20260425T155409Z
DESCRIPTION:10th EDITIONAPRIL 25/26\, 2026\nEVENT PROGRAM\nPIAZZALE DEL SOC
 CORSO\, FORIO12:00 PM – Start of Scheria Cup 24 - XS\nSUNDAY 26FORIO MARIN
 A DOCK\nFROM 11:00 AM TO 4:00 PM – Sailing Festival LNI IschiaLocal associ
 ations’ standsIn collaboration with the event “Welcome Spring”\nMusic by “
 Trio Flegreo”Denis Trani – guitar and vocalsLeonardo Scotti Di Monaco – dr
 ums and backing vocalsDaniele Ubjk – wind instruments and backing vocals\n
 11:30 AM – CONFERENCE'Sea of Legality and Responsible Propellers'\nSpeaker
 s:Stani Verde – Mayor of ForioArch. Giovannangelo De Angelis – President\,
  LNI IschiaDr. Pasquale Orofino – President\, 5th Zone FIVAdmiral Maurizio
  Trogu – Regional Delegate\, LNIDr. Barbara Aprea – MagistrateFormer Capta
 in Giusy Pascarella – C.L.CProf. Giuseppina Di Guida – School PrincipalDr.
  Filippo D’Arrigo – Instructor\, Mascalzone LatinoLawyer Dario Di Napoli –
  Secretary Councillor\, LNI NaplesGiorgio Mulazzani – Vice President\, LNI
  BacoliProf. Francesco Schillirò – Vice President\, Panathlon Italia\nMode
 rator: Claudio Iacono – Journalist\n1:00 PM – Opening of Sea Brunch stands
 By Gourmet in Movimento Catering€6 per dish/drink – €15 bundle: 2 dishes +
  1 drink\n3:00 PM – Awards Ceremony https://ischiaeventi.com/en/event-venu
 es/event/249912-scheriacup-x-edition
DTSTART:20260425T100000Z
DTEND:20260425T130000Z
LOCATION:Piazzale del Soccorso (Via del Soccorso\, 6\, 80075 Forio NA\, Ita
 lia)
SUMMARY:ScheriaCup X edition
URL:https://ischiaeventi.com/en/event-venues/event/249912-scheriacup-x-edit
 ion
END:VEVENT
END:VCALENDAR
