BEGIN:VCALENDAR
VERSION:2.0
PRODID:-//https://ischiaeventi.com///NONSGML kigkonsult.se iCalcreator 2.10.15//
METHOD:PUBLISH
BEGIN:VEVENT
UID:20260421T001408UTC-0043sJCddi@https://ischiaeventi.com/
DTSTAMP:20260421T001408Z
DESCRIPTION:LA DOLCE NOTTE DI FORIO - MUSIC ITALIAN STYLE https://ischiaeve
 nti.com/en/events/cultura/architecture/event/103200-estate-forio-2025-la-d
 olce-notte-di-forio
DTSTART:20250717T190000Z
DTEND:20250717T215900Z
LOCATION:Chiostro S. Francesco (Rione Pescatori\, 2\, 80075 Forio NA\, Ital
 ia)
SUMMARY:ESTATE FORIO 2025: LA DOLCE NOTTE DI FORIO
URL:https://ischiaeventi.com/en/events/cultura/architecture/event/103200-es
 tate-forio-2025-la-dolce-notte-di-forio
END:VEVENT
END:VCALENDAR
