BEGIN:VCALENDAR
VERSION:2.0
PRODID:-//https://ischiaeventi.com///NONSGML kigkonsult.se iCalcreator 2.10.15//
METHOD:PUBLISH
BEGIN:VEVENT
UID:20260421T014618UTC-0289O2Whtt@https://ischiaeventi.com/
DTSTAMP:20260421T014618Z
DESCRIPTION:15:00 – BOUTIQUES OPEN – 50% Discount15:00 – LIVE MUSIC with Gi
 ovanni ApetinoSpritz Time at Sunset\nFREE PARKING and WHEELCHAIR AVAILABLE
  for those with mobility issues\nSant’Angelo – Senare Fountain\n&nbsp\;\n 
 https://ischiaeventi.com/en/events/cultura/architecture/event/249177-chris
 tmas-in-santangelo-2025-live-music
DTSTART:20260102T140000Z
DTEND:20260102T180000Z
LOCATION:Borgo di Sant'Angelo (Via Nazario Sauro\, Sant'angelo NA\, Italia)
SUMMARY:Christmas in Sant'Angelo 2025: live music
URL:https://ischiaeventi.com/en/events/cultura/architecture/event/249177-ch
 ristmas-in-santangelo-2025-live-music
END:VEVENT
END:VCALENDAR
