BEGIN:VCALENDAR
VERSION:2.0
PRODID:-//https://ischiaeventi.com///NONSGML kigkonsult.se iCalcreator 2.10.15//
METHOD:PUBLISH
BEGIN:VEVENT
UID:20260421T014925UTC-3363KMHT9c@https://ischiaeventi.com/
DTSTAMP:20260421T014925Z
DESCRIPTION:8:00 PM – The Magic of Christmas in Choir: set within the Livin
 g Nativity\, organized by the Parish of S.M. Montevergine at the Sanctuary
  of San Francesco di Paola. https://ischiaeventi.com/en/events/cultura/arc
 hitecture/event/249357-christmas-in-forio-2025-the-magic-of-christmas-in-c
 hoir
DTSTART:20251221T190000Z
DTEND:20251221T220000Z
LOCATION:Santuario di San Francesco di Paola  (Via Tommaso Cigliano\, 144\,
  80075 Forio NA\, Italy)
SUMMARY:Christmas in Forio 2025: The Magic of Christmas in Choir
URL:https://ischiaeventi.com/en/events/cultura/architecture/event/249357-ch
 ristmas-in-forio-2025-the-magic-of-christmas-in-choir
END:VEVENT
END:VCALENDAR
