BEGIN:VCALENDAR
VERSION:2.0
PRODID:-//https://ischiaeventi.com///NONSGML kigkonsult.se iCalcreator 2.10.15//
METHOD:PUBLISH
BEGIN:VEVENT
UID:20260421T032421UTC-6139k2ppEP@https://ischiaeventi.com/
DTSTAMP:20260421T032421Z
DESCRIPTION:Buchner Swing Orchestra&nbsp\;Directed by Prof. E. AmazioGiorgi
 o Buchner Music High School https://ischiaeventi.com/en/events/cultura/arc
 hitecture/event/249436-luce-per-la-pace-sweet-dreams
DTSTART:20260120T180000Z
DTEND:20260120T200000Z
LOCATION:Santa Maria delle Grazie in San Pietro (Corso Vittoria Colonna\, 1
 91\, 80077 Ischia NA\, Italia)
SUMMARY:Luce per la pace: 'Sweet Dreams'
URL:https://ischiaeventi.com/en/events/cultura/architecture/event/249436-lu
 ce-per-la-pace-sweet-dreams
END:VEVENT
END:VCALENDAR
