BEGIN:VCALENDAR
VERSION:2.0
PRODID:-//https://ischiaeventi.com///NONSGML kigkonsult.se iCalcreator 2.10.15//
METHOD:PUBLISH
BEGIN:VEVENT
UID:20260421T003440UTC-3890BPMj9V@https://ischiaeventi.com/
DTSTAMP:20260421T003440Z
DESCRIPTION:Rosario Miraggio al Negombo https://ischiaeventi.com/en/events/
 cultura/architecture/event/31601-rosario-miraggio-al-negombo
DTSTART:20240817T193000Z
DTEND:20240817T210000Z
LOCATION:Parco Termale Negombo (Baia di S. Montano\, - 80076 Lacco Ameno NA
 \, Italia)
SUMMARY:Rosario Miraggio al Negombo
URL:https://ischiaeventi.com/en/events/cultura/architecture/event/31601-ros
 ario-miraggio-al-negombo
END:VEVENT
END:VCALENDAR
