BEGIN:VCALENDAR
VERSION:2.0
PRODID:-//https://ischiaeventi.com///NONSGML kigkonsult.se iCalcreator 2.10.15//
METHOD:PUBLISH
BEGIN:VEVENT
UID:20260421T004524UTC-83702KOeJX@https://ischiaeventi.com/
DTSTAMP:20260421T004524Z
DESCRIPTION:Gioni Barbera: Voce e piano Massimo Satta: Chitarra Sandro Rosa
 ti: Basso Giulio Proietti: Batteria https://ischiaeventi.com/en/events/cul
 tura/architecture/event/32312-estate-insieme-lacco-ameno-mogol-racconta-mo
 gol
DTSTART:20240907T190000Z
DTEND:20240907T210000Z
LOCATION:Piazza Santa Restituta  (Piazza Santa Restituta\, 80076 Lacco Amen
 o NA\, Italia)
SUMMARY:Estate insieme Lacco Ameno: MOGOL RACCONTA MOGOL
URL:https://ischiaeventi.com/en/events/cultura/architecture/event/32312-est
 ate-insieme-lacco-ameno-mogol-racconta-mogol
END:VEVENT
END:VCALENDAR
