BEGIN:VCALENDAR
VERSION:2.0
PRODID:-//https://ischiaeventi.com///NONSGML kigkonsult.se iCalcreator 2.10.15//
METHOD:PUBLISH
BEGIN:VEVENT
UID:20260421T001316UTC-1203sZix8l@https://ischiaeventi.com/
DTSTAMP:20260421T001316Z
DESCRIPTION:JAZZ ITINERANTE con simpatici musicisti che suoneranno lungo il
  Corso di Forio https://ischiaeventi.com/en/events/cultura/architecture/ev
 ent/34282-forio-merryland-jazz-itinerante
DTSTART:20241229T150000Z
DTEND:20241229T170000Z
LOCATION:Comune di Forio (Piazza Municipio\, 1\, 80075 Forio NA\, Italia)
SUMMARY:Forio MerryLand: JAZZ ITINERANTE
URL:https://ischiaeventi.com/en/events/cultura/architecture/event/34282-for
 io-merryland-jazz-itinerante
END:VEVENT
END:VCALENDAR
