BEGIN:VCALENDAR
VERSION:2.0
PRODID:-//https://ischiaeventi.com///NONSGML kigkonsult.se iCalcreator 2.10.15//
METHOD:PUBLISH
BEGIN:VEVENT
UID:20260423T101843UTC-8845oLvhv3@https://ischiaeventi.com/
DTSTAMP:20260423T101843Z
DESCRIPTION:4:00 PM – From the Game Board to the Tannenbaum: an afternoon o
 f pure fun with board games organized by the Drago Verde Ischia Associatio
 n in the Cloister of San Francesco in Piazza Municipio.7:00 PM – Switch on
 : Parade of the Aurora Marching Band with the Majorettes and a magic show 
 featuring street artists and jugglers\, organized by the Pro Loco Panza in
  Piazza San Leonardo. https://ischiaeventi.com/en/events/cultura/conferenc
 es/event/249082-christmas-in-forio-2025-from-the-game-board-to-the-tannenb
 aum
DTSTART:20251207T150000Z
DTEND:20251207T201600Z
LOCATION:Comune di Forio (Piazza Municipio\, 1\, 80075 Forio NA\, Italia)
SUMMARY:Christmas in Forio 2025:  From the Game Board to the Tannenbaum
URL:https://ischiaeventi.com/en/events/cultura/conferences/event/249082-chr
 istmas-in-forio-2025-from-the-game-board-to-the-tannenbaum
END:VEVENT
END:VCALENDAR
