BEGIN:VCALENDAR
VERSION:2.0
PRODID:-//https://ischiaeventi.com///NONSGML kigkonsult.se iCalcreator 2.10.15//
METHOD:PUBLISH
BEGIN:VEVENT
UID:20260423T170414UTC-1460Suc8C3@https://ischiaeventi.com/
DTSTAMP:20260423T170414Z
DESCRIPTION:Charity bingo with Anna Castagna https://ischiaeventi.com/en/ev
 ents/cultura/conferences/event/249295-christmas-in-forio-2025-charity-bing
 o
DTSTART:20251221T160000Z
DTEND:20251221T180000Z
LOCATION:Sorriso Thermae Resort & SPA  (Via Provinciale Panza\, 209\, 80075
  Forio NA\, Italia)
SUMMARY:Christmas in Forio 2025:  Charity bingo
URL:https://ischiaeventi.com/en/events/cultura/conferences/event/249295-chr
 istmas-in-forio-2025-charity-bingo
END:VEVENT
END:VCALENDAR
