BEGIN:VCALENDAR
VERSION:2.0
PRODID:-//https://ischiaeventi.com///NONSGML kigkonsult.se iCalcreator 2.10.15//
METHOD:PUBLISH
BEGIN:VEVENT
UID:20260423T131940UTC-9410vzZuiM@https://ischiaeventi.com/
DTSTAMP:20260423T131940Z
DESCRIPTION:Sports event: Real Forio vs Real Grazzanisefree entrance https:
 //ischiaeventi.com/en/events/cultura/conferences/event/249400-sports-event
 -real-forio-vs-real-grazzanise
DTSTART:20260111T133000Z
DTEND:20260111T160000Z
LOCATION:Stadio - Salvatore Calise (Via Cava di Spinavola 17\, 80075\, Fori
 o\, Napoli)
SUMMARY:Sports event: Real Forio vs Real Grazzanise
URL:https://ischiaeventi.com/en/events/cultura/conferences/event/249400-spo
 rts-event-real-forio-vs-real-grazzanise
END:VEVENT
END:VCALENDAR
