BEGIN:VCALENDAR
VERSION:2.0
PRODID:-//https://ischiaeventi.com///NONSGML kigkonsult.se iCalcreator 2.10.15//
METHOD:PUBLISH
BEGIN:VEVENT
UID:20260423T125331UTC-31087cou9v@https://ischiaeventi.com/
DTSTAMP:20260423T125331Z
DESCRIPTION:Events and performancesDramatized readingsConcerts and performa
 ncesPhotography exhibitions and visual artsTastings inspired by the ancien
 t world\nMeetings with authorsBook presentationsConferences and debatesPoe
 try readings\n12th Edition https://ischiaeventi.com/en/events/cultura/conf
 erences/event/249729-the-national-night-of-the-classical-high-school
DTSTART:20260327T170000Z
DTEND:20260327T225900Z
LOCATION:LICEO STATALE 'G. Buchner' (n. Italia\, Via delle Ginestre\, 39\, 
 80077 Ischia NA\, Italia)
SUMMARY:The National Night of the Classical High School
URL:https://ischiaeventi.com/en/events/cultura/conferences/event/249729-the
 -national-night-of-the-classical-high-school
END:VEVENT
END:VCALENDAR
