BEGIN:VCALENDAR
VERSION:2.0
PRODID:-//https://ischiaeventi.com///NONSGML kigkonsult.se iCalcreator 2.10.15//
METHOD:PUBLISH
BEGIN:VEVENT
UID:20260423T130643UTC-3578WnTsoc@https://ischiaeventi.com/
DTSTAMP:20260423T130643Z
DESCRIPTION:8:30 PM – On the forecourt of the Parish Church: Gaetano Maschi
 o presents the Canzolata “IN...pacchettata” – a musical bingo with prizes\
 , surprises\, and entertainment. Featuring Elisabetta Maschio. Piano accom
 paniment by Maestro Silvano Trani. Food stand organized by the parish team
 . https://ischiaeventi.com/en/events/cultura/conferences/event/249909-cele
 brations-in-honor-of-saint-francis-of-paola-canzolata-in-pacchettata
DTSTART:20260502T183000Z
DTEND:20260502T203000Z
LOCATION:Santuario di San Francesco di Paola  (Via Tommaso Cigliano\, 144\,
  80075 Forio NA\, Italy)
SUMMARY:Celebrations in honor of Saint Francis of Paola: Canzolata “IN...pa
 cchettata”
URL:https://ischiaeventi.com/en/events/cultura/conferences/event/249909-cel
 ebrations-in-honor-of-saint-francis-of-paola-canzolata-in-pacchettata
END:VEVENT
END:VCALENDAR
