BEGIN:VCALENDAR
VERSION:2.0
PRODID:-//https://ischiaeventi.com///NONSGML kigkonsult.se iCalcreator 2.10.15//
METHOD:PUBLISH
BEGIN:VEVENT
UID:20260423T164321UTC-7651LVgBw9@https://ischiaeventi.com/
DTSTAMP:20260423T164321Z
DESCRIPTION: Giovedì 3 Aprile - 𝗕𝗶𝗮𝗴𝗶𝗼 𝗜𝘇𝘇𝗼 il napoletano più amato dal pub
 blico. https://ischiaeventi.com/en/events/cultura/conferences/event/27942-
 il-grande-spettacolo-al-cinema-excelsior-di-ischia-biagio-izzo
DTSTART:20240403T180000Z
DTEND:20240403T203000Z
LOCATION:Cinema Excelsior (Via Francesco Sogliuzzo\, 18\, 80077 Ischia NA\,
  Italia)
SUMMARY:Il grande spettacolo al cinema excelsior di Ischia: Biagio Izzo
URL:https://ischiaeventi.com/en/events/cultura/conferences/event/27942-il-g
 rande-spettacolo-al-cinema-excelsior-di-ischia-biagio-izzo
END:VEVENT
END:VCALENDAR
