BEGIN:VCALENDAR
VERSION:2.0
PRODID:-//https://ischiaeventi.com///NONSGML kigkonsult.se iCalcreator 2.10.15//
METHOD:PUBLISH
BEGIN:VEVENT
UID:20260423T101444UTC-4720O5TWVV@https://ischiaeventi.com/
DTSTAMP:20260423T101444Z
DESCRIPTION:Esposizione Iacono Mattera Waschimps https://ischiaeventi.com/e
 n/events/cultura/conferences/event/28787-esposizione-iacono-mattera-waschi
 mps
DTSTART:20240420T160000Z
DTEND:20240420T180000Z
LOCATION:Villa Arbusto museum (Corso Angelo Rizzoli\, 194\, 80076 Lacco Ame
 no NA\, Italia)
SUMMARY:Esposizione Iacono Mattera Waschimps
URL:https://ischiaeventi.com/en/events/cultura/conferences/event/28787-espo
 sizione-iacono-mattera-waschimps
END:VEVENT
END:VCALENDAR
