BEGIN:VCALENDAR
VERSION:2.0
PRODID:-//https://ischiaeventi.com///NONSGML kigkonsult.se iCalcreator 2.10.15//
METHOD:PUBLISH
BEGIN:VEVENT
UID:20260423T164235UTC-2540n8rCHd@https://ischiaeventi.com/
DTSTAMP:20260423T164235Z
DESCRIPTION:La mostra è visitabile dal martedì alla domenica dalle 19.00 al
 le 24.00\, i quadri in esposizione sono disponibili per eventuali acquisti
 . https://ischiaeventi.com/en/events/cultura/conferences/event/29139-mostr
 a-fotografica-punti-di-vista
DTSTART;VALUE=DATE:20240422
LOCATION:Kiwi Jam (Via Luigi Mazzella\, 42\, 80077 Ischia NA\, Italia)
SUMMARY:Mostra fotografica punti di vista
URL:https://ischiaeventi.com/en/events/cultura/conferences/event/29139-most
 ra-fotografica-punti-di-vista
END:VEVENT
END:VCALENDAR
