BEGIN:VCALENDAR
VERSION:2.0
PRODID:-//https://ischiaeventi.com///NONSGML kigkonsult.se iCalcreator 2.10.15//
METHOD:PUBLISH
BEGIN:VEVENT
UID:20260423T101606UTC-8183MWb6UO@https://ischiaeventi.com/
DTSTAMP:20260423T101606Z
DESCRIPTION:DANZA CLASSICADANZA MODERNALATINO ZUMBA FITNESSBALLI DI GRUPPO 
 https://ischiaeventi.com/en/events/cultura/conferences/event/30753-calici-
 di-cultura-e-ora-di-danzare
DTSTART:20240613T160000Z
DTEND:20240613T183000Z
LOCATION:Piazzale Cristoforo Colombo (Via Cristoforo Colombo\, 80075 Forio 
 NA\, Italia)
SUMMARY:Calici di cultura: è ora di danzare
URL:https://ischiaeventi.com/en/events/cultura/conferences/event/30753-cali
 ci-di-cultura-e-ora-di-danzare
END:VEVENT
END:VCALENDAR
