BEGIN:VCALENDAR
VERSION:2.0
PRODID:-//https://ischiaeventi.com///NONSGML kigkonsult.se iCalcreator 2.10.15//
METHOD:PUBLISH
BEGIN:VEVENT
UID:20260423T102629UTC-5664HOwC9U@https://ischiaeventi.com/
DTSTAMP:20260423T102629Z
DESCRIPTION:Emozioni sui pattini https://ischiaeventi.com/en/events/cultura
 /conferences/event/31000-emozioni-sui-pattini
DTSTART:20240705T190000Z
DTEND:20240705T213000Z
LOCATION:Palasport F.Taglialatela (Via Fondo Bosso\, 80077 Ischia NA\, Ital
 ia)
SUMMARY:Emozioni sui pattini
URL:https://ischiaeventi.com/en/events/cultura/conferences/event/31000-emoz
 ioni-sui-pattini
END:VEVENT
END:VCALENDAR
