BEGIN:VCALENDAR
VERSION:2.0
PRODID:-//https://ischiaeventi.com///NONSGML kigkonsult.se iCalcreator 2.10.15//
METHOD:PUBLISH
BEGIN:VEVENT
UID:20260423T145409UTC-1421hU7wuJ@https://ischiaeventi.com/
DTSTAMP:20260423T145409Z
DESCRIPTION:Summer Time Serrara: MUSICNIGHT CON I PERSONAL https://ischiaev
 enti.com/en/events/cultura/conferences/event/31254-summer-time-serrara-mus
 icnight-con-i-personal
DTSTART:20240905T190000Z
DTEND:20240905T210000Z
LOCATION:Piazza Sant'Angelo  (80070 Serrara Fontana NA\, Italia)
SUMMARY:Summer Time Serrara: MUSICNIGHT CON I PERSONAL
URL:https://ischiaeventi.com/en/events/cultura/conferences/event/31254-summ
 er-time-serrara-musicnight-con-i-personal
END:VEVENT
END:VCALENDAR
