BEGIN:VCALENDAR
VERSION:2.0
PRODID:-//https://ischiaeventi.com///NONSGML kigkonsult.se iCalcreator 2.10.15//
METHOD:PUBLISH
BEGIN:VEVENT
UID:20260423T120754UTC-5813XdcKlb@https://ischiaeventi.com/
DTSTAMP:20260423T120754Z
DESCRIPTION:Incontri Mediterranei: Neri per caso https://ischiaeventi.com/e
 n/events/cultura/conferences/event/31481-incontri-mediterranei-neri-per-ca
 so
DTSTART:20240725T193000Z
DTEND:20240725T213000Z
LOCATION:Piazza Santa Restituta  (Piazza Santa Restituta\, 80076 Lacco Amen
 o NA\, Italia)
SUMMARY:Incontri Mediterranei: Neri per caso
URL:https://ischiaeventi.com/en/events/cultura/conferences/event/31481-inco
 ntri-mediterranei-neri-per-caso
END:VEVENT
END:VCALENDAR
