BEGIN:VCALENDAR
VERSION:2.0
PRODID:-//https://ischiaeventi.com///NONSGML kigkonsult.se iCalcreator 2.10.15//
METHOD:PUBLISH
BEGIN:VEVENT
UID:20260423T131828UTC-78585cIpln@https://ischiaeventi.com/
DTSTAMP:20260423T131828Z
DESCRIPTION:16.00 JAZZ ITINERANTE con i simpatici musicisti che suoneranno 
 lungo il Corso di Forio https://ischiaeventi.com/en/events/cultura/confere
 nces/event/34123-forio-merryland-jazz-itinerante
DTSTART:20241228T150000Z
DTEND:20241228T170000Z
LOCATION:Comune di Forio (Piazza Municipio\, 1\, 80075 Forio NA\, Italia)
SUMMARY:Forio MerryLand: JAZZ ITINERANTE
URL:https://ischiaeventi.com/en/events/cultura/conferences/event/34123-fori
 o-merryland-jazz-itinerante
END:VEVENT
END:VCALENDAR
