BEGIN:VCALENDAR
VERSION:2.0
PRODID:-//https://ischiaeventi.com///NONSGML kigkonsult.se iCalcreator 2.10.15//
METHOD:PUBLISH
BEGIN:VEVENT
UID:20260423T102710UTC-9207T8VFTK@https://ischiaeventi.com/
DTSTAMP:20260423T102710Z
DESCRIPTION:&nbsp\;Brunch in piazza https://ischiaeventi.com/en/events/cult
 ura/conferences/event/35835-natale-a-ischia-brunch-in-piazza
DTSTART:20241224T110000Z
DTEND:20241224T140000Z
LOCATION:Via Roma (Via Roma\, 80077 Ischia NA\, Italia)
SUMMARY:Natale a Ischia: Brunch in piazza
URL:https://ischiaeventi.com/en/events/cultura/conferences/event/35835-nata
 le-a-ischia-brunch-in-piazza
END:VEVENT
END:VCALENDAR
